BEGIN:VCALENDAR
VERSION:2.0
PRODID:-//Tukios.com/
BEGIN:VEVENT
UID:b0432015-e72d-4c52-b2b2-18c595450e41@obits.endswellfuneralhome.com
DTSTAMP:20260423T004347Z
DTSTART:20260514T190000Z
DTEND:20260514T200000Z
SUMMARY:Celebration of Life
DESCRIPTION:
URL:https://obits.endswellfuneralhome.com/eric-filcoff
LOCATION:Campbell Lodge 3247 Spottswood St  Raleigh NC 27615
GEO:35.8891797;-78.5768496
END:VEVENT
END:VCALENDAR