BEGIN:VCALENDAR
VERSION:2.0
PRODID:-//Tukios.com/
BEGIN:VEVENT
UID:39ddaefe-f3a1-406b-b3ec-cd1e12355f90@obits.endswellfuneralhome.com
DTSTAMP:20260420T052704Z
DTSTART:20260606T153000Z
DTEND:20260606T183000Z
SUMMARY:Celebration of Life
DESCRIPTION:
URL:https://obits.endswellfuneralhome.com/gary-player
LOCATION:Blackwood Farm Park 4215 NC-86  Chapel Hill NC 27514
GEO:36.0189933;-79.080644
END:VEVENT
END:VCALENDAR